
BEGIN:VCALENDAR
VERSION:2.0
PRODID:-//51.75.71.188//NONSGML kigkonsult.se iCalcreator 2.20//
CALSCALE:GREGORIAN
METHOD:PUBLISH
X-WR-TIMEZONE:UTC
BEGIN:VEVENT
UID:event1@LES MARCEL
DTSTAMP:20260419T124344Z
CATEGORIES:Les Marcel
DESCRIPTION:Lentepoets\nCategory: Les Marcel\nLink: http://www.lesmarcel.be
 /index.php?option=com_jem&view=event&id=1:lentepoets\n
DTSTART:20240427T140000Z
DTEND:20240427T160000Z
LOCATION:Venneborglaan\,Venneborglaan \,2100 Deurne
SUMMARY:Lentepoets
URL:http://www.lesmarcel.be/index.php?option=com_jem&view=event&id=1:lentep
 oets
END:VEVENT
END:VCALENDAR
