
BEGIN:VCALENDAR
VERSION:2.0
PRODID:-//51.75.71.188//NONSGML kigkonsult.se iCalcreator 2.20//
CALSCALE:GREGORIAN
METHOD:PUBLISH
X-WR-TIMEZONE:UTC
BEGIN:VEVENT
UID:event2@LES MARCEL
DTSTAMP:20260419T124746Z
CATEGORIES:Les Marcel
DESCRIPTION:Les Marcel live @ Snowworld\nCategory: Les Marcel\nLink: http:/
 /www.lesmarcel.be/index.php?option=com_jem&view=event&id=2:les-marcel-live
 -snowworld\n
DTSTART:20240525T180000Z
DTEND:20240525T183500Z
LOCATION:Snowworld Antwerpen
SUMMARY:Les Marcel live @ Snowworld
URL:http://www.lesmarcel.be/index.php?option=com_jem&view=event&id=2:les-ma
 rcel-live-snowworld
END:VEVENT
END:VCALENDAR
