
BEGIN:VCALENDAR
VERSION:2.0
PRODID:-//51.75.71.188//NONSGML kigkonsult.se iCalcreator 2.20//
CALSCALE:GREGORIAN
METHOD:PUBLISH
X-WR-TIMEZONE:UTC
BEGIN:VEVENT
UID:event3@LES MARCEL
DTSTAMP:20260419T141723Z
CATEGORIES:Les Marcel
DESCRIPTION:Les Marcel live @ Bar Ven\nCategory: Les Marcel\nLink: http://w
 ww.lesmarcel.be/index.php?option=com_jem&view=event&id=3:les-marcel-live-b
 ar-ven\n
DTSTART:20240623T200000Z
DTEND:20240623T220000Z
SUMMARY:Les Marcel live @ Bar Ven
URL:http://www.lesmarcel.be/index.php?option=com_jem&view=event&id=3:les-ma
 rcel-live-bar-ven
END:VEVENT
END:VCALENDAR
