
BEGIN:VCALENDAR
VERSION:2.0
PRODID:-//51.75.71.188//NONSGML kigkonsult.se iCalcreator 2.20//
CALSCALE:GREGORIAN
METHOD:PUBLISH
X-WR-TIMEZONE:UTC
BEGIN:VEVENT
UID:event4@LES MARCEL
DTSTAMP:20260419T141716Z
CATEGORIES:Les Marcel
DESCRIPTION:Opening OPEN ATELIERS 24\nCategory: Les Marcel\nLink: http://ww
 w.lesmarcel.be/index.php?option=com_jem&view=event&id=4:opening-open-ateli
 ers-24\n
DTSTART:20240927T200000Z
DTEND:20240927T220000Z
LOCATION:Zuiderpershuis\,Waalse Kaai\,2000 Antwerpen
SUMMARY:Opening OPEN ATELIERS 24
URL:http://www.lesmarcel.be/index.php?option=com_jem&view=event&id=4:openin
 g-open-ateliers-24
END:VEVENT
END:VCALENDAR
