
BEGIN:VCALENDAR
VERSION:2.0
PRODID:-//51.75.71.188//NONSGML kigkonsult.se iCalcreator 2.20//
CALSCALE:GREGORIAN
METHOD:PUBLISH
X-WR-TIMEZONE:UTC
BEGIN:VEVENT
UID:event5@LES MARCEL
DTSTAMP:20260419T124647Z
CATEGORIES:Les Marcel
DESCRIPTION:Les Marcel Live@ Huys Arts\nCategory: Les Marcel\nLink: http://
 www.lesmarcel.be/index.php?option=com_jem&view=event&id=5:les-marcel-live-
 huys-arts\n
DTSTART;VALUE=DATE:20240525
DTEND;VALUE=DATE:20240526
LOCATION:Huys Arts\,Sint Benedictusstraat\,Wilrijk
SUMMARY:Les Marcel Live@ Huys Arts
URL:http://www.lesmarcel.be/index.php?option=com_jem&view=event&id=5:les-ma
 rcel-live-huys-arts
END:VEVENT
END:VCALENDAR
