
BEGIN:VCALENDAR
VERSION:2.0
PRODID:-//51.75.71.188//NONSGML kigkonsult.se iCalcreator 2.20//
CALSCALE:GREGORIAN
METHOD:PUBLISH
X-WR-TIMEZONE:UTC
BEGIN:VEVENT
UID:event6@LES MARCEL
DTSTAMP:20260419T142906Z
CATEGORIES:Les Marcel
DESCRIPTION:Les Marcel @Huys Arts\nCategory: Les Marcel\nLink: http://www.l
 esmarcel.be/index.php?option=com_jem&view=event&id=6:les-marcel-huys-arts
 \n
DTSTART:20240928T160000Z
DTEND:20240928T170000Z
LOCATION:Huys Arts\,Sint Benedictusstraat\,Wilrijk
SUMMARY:Les Marcel @Huys Arts
URL:http://www.lesmarcel.be/index.php?option=com_jem&view=event&id=6:les-ma
 rcel-huys-arts
END:VEVENT
END:VCALENDAR
